BEGIN:VCALENDAR
VERSION:2.0
PRODID:-//deltarhoupsilon.org - ECPv5.16.4//NONSGML v1.0//EN
CALSCALE:GREGORIAN
METHOD:PUBLISH
X-WR-CALNAME:deltarhoupsilon.org
X-ORIGINAL-URL:http://deltarhoupsilon.org
X-WR-CALDESC:Events for deltarhoupsilon.org
BEGIN:VTIMEZONE
TZID:America/Chicago
BEGIN:DAYLIGHT
TZOFFSETFROM:-0600
TZOFFSETTO:-0500
TZNAME:CDT
DTSTART:20180311T080000
END:DAYLIGHT
BEGIN:STANDARD
TZOFFSETFROM:-0500
TZOFFSETTO:-0600
TZNAME:CST
DTSTART:20181104T070000
END:STANDARD
END:VTIMEZONE
BEGIN:VEVENT
DTSTART;TZID=America/Chicago:20180512T130000
DTEND;TZID=America/Chicago:20180512T160000
DTSTAMP:20260421T094428
CREATED:20180510T030844Z
LAST-MODIFIED:20180510T030844Z
UID:1335-1526130000-1526140800@deltarhoupsilon.org
SUMMARY:Senior Graduation Celebration
DESCRIPTION:
URL:http://deltarhoupsilon.org/event/senior-graduation-celebration/
LOCATION:Club 400\, 322 Williams St\, Waukesha\, 53186\, United States
END:VEVENT
END:VCALENDAR