BEGIN:VCALENDAR
VERSION:2.0
PRODID:-//deltarhoupsilon.org - ECPv5.16.4//NONSGML v1.0//EN
CALSCALE:GREGORIAN
METHOD:PUBLISH
X-WR-CALNAME:deltarhoupsilon.org
X-ORIGINAL-URL:http://deltarhoupsilon.org
X-WR-CALDESC:Events for deltarhoupsilon.org
BEGIN:VTIMEZONE
TZID:America/Chicago
BEGIN:DAYLIGHT
TZOFFSETFROM:-0600
TZOFFSETTO:-0500
TZNAME:CDT
DTSTART:20180311T080000
END:DAYLIGHT
BEGIN:STANDARD
TZOFFSETFROM:-0500
TZOFFSETTO:-0600
TZNAME:CST
DTSTART:20181104T070000
END:STANDARD
END:VTIMEZONE
BEGIN:VEVENT
DTSTART;TZID=America/Chicago:20180504T180000
DTEND;TZID=America/Chicago:20180504T220000
DTSTAMP:20260421T113817
CREATED:20180421T033451Z
LAST-MODIFIED:20180421T033451Z
UID:1321-1525456800-1525471200@deltarhoupsilon.org
SUMMARY:DRU Spring Benefit Dinner
DESCRIPTION:
URL:http://deltarhoupsilon.org/event/dru-spring-benefit-dinner/
LOCATION:Carroll University Stackner Ballroom (Campus Center)\, 100 N East Ave\, Waukesha\, 53186
END:VEVENT
END:VCALENDAR