BEGIN:VCALENDAR
VERSION:2.0
PRODID:-//deltarhoupsilon.org - ECPv5.16.4//NONSGML v1.0//EN
CALSCALE:GREGORIAN
METHOD:PUBLISH
X-WR-CALNAME:deltarhoupsilon.org
X-ORIGINAL-URL:http://deltarhoupsilon.org
X-WR-CALDESC:Events for deltarhoupsilon.org
BEGIN:VTIMEZONE
TZID:America/Chicago
BEGIN:DAYLIGHT
TZOFFSETFROM:-0600
TZOFFSETTO:-0500
TZNAME:CDT
DTSTART:20200308T080000
END:DAYLIGHT
BEGIN:STANDARD
TZOFFSETFROM:-0500
TZOFFSETTO:-0600
TZNAME:CST
DTSTART:20201101T070000
END:STANDARD
END:VTIMEZONE
BEGIN:VEVENT
DTSTART;TZID=America/Chicago:20200201T100000
DTEND;TZID=America/Chicago:20200201T160000
DTSTAMP:20260421T093535
CREATED:20200209T165613Z
LAST-MODIFIED:20200209T165613Z
UID:1408-1580551200-1580572800@deltarhoupsilon.org
SUMMARY:DRU History Items (Organizing)
DESCRIPTION:
URL:http://deltarhoupsilon.org/event/dru-history-items-organizing/
LOCATION:John Macy Residence\, 4829 Hewitts Point Road\, Oconomowoc\,\, WI\, 53066\, United States
END:VEVENT
END:VCALENDAR