BEGIN:VCALENDAR
VERSION:2.0
PRODID:-//deltarhoupsilon.org - ECPv5.16.4//NONSGML v1.0//EN
CALSCALE:GREGORIAN
METHOD:PUBLISH
X-WR-CALNAME:deltarhoupsilon.org
X-ORIGINAL-URL:http://deltarhoupsilon.org
X-WR-CALDESC:Events for deltarhoupsilon.org
BEGIN:VTIMEZONE
TZID:America/Chicago
BEGIN:DAYLIGHT
TZOFFSETFROM:-0600
TZOFFSETTO:-0500
TZNAME:CDT
DTSTART:20160313T080000
END:DAYLIGHT
BEGIN:STANDARD
TZOFFSETFROM:-0500
TZOFFSETTO:-0600
TZNAME:CST
DTSTART:20161106T070000
END:STANDARD
END:VTIMEZONE
BEGIN:VEVENT
DTSTART;TZID=America/Chicago:20161001T090000
DTEND;TZID=America/Chicago:20161001T220000
DTSTAMP:20260421T114017
CREATED:20151106T062846Z
LAST-MODIFIED:20160302T070550Z
UID:722-1475312400-1475359200@deltarhoupsilon.org
SUMMARY:Delta Rho Upsilon – Open House
DESCRIPTION:All DRU Alumni and Families are welcome for an Open House at the Clubhouse.
URL:http://deltarhoupsilon.org/event/delta-rho-upsilon-open-house-2/
LOCATION:DRU Clubhouse\, 427 E Broadway\, Waukesha\, WI\, 53186\, United States
END:VEVENT
END:VCALENDAR