BEGIN:VCALENDAR
VERSION:2.0
PRODID:-//deltarhoupsilon.org - ECPv5.16.4//NONSGML v1.0//EN
CALSCALE:GREGORIAN
METHOD:PUBLISH
X-WR-CALNAME:deltarhoupsilon.org
X-ORIGINAL-URL:http://deltarhoupsilon.org
X-WR-CALDESC:Events for deltarhoupsilon.org
BEGIN:VTIMEZONE
TZID:America/Chicago
BEGIN:DAYLIGHT
TZOFFSETFROM:-0600
TZOFFSETTO:-0500
TZNAME:CDT
DTSTART:20160313T080000
END:DAYLIGHT
BEGIN:STANDARD
TZOFFSETFROM:-0500
TZOFFSETTO:-0600
TZNAME:CST
DTSTART:20161106T070000
END:STANDARD
END:VTIMEZONE
BEGIN:VEVENT
DTSTART;TZID=America/Chicago:20160130T140000
DTEND;TZID=America/Chicago:20160130T180000
DTSTAMP:20260421T113920
CREATED:20150818T032707Z
LAST-MODIFIED:20150818T032707Z
UID:707-1454162400-1454176800@deltarhoupsilon.org
SUMMARY:Delta Rho Upsilon – History Event
DESCRIPTION:Join us for the Annual History Event.
URL:http://deltarhoupsilon.org/event/delta-rho-upsilon-history-event/
LOCATION:DRU Clubhouse\, 427 E Broadway\, Waukesha\, WI\, 53186\, United States
END:VEVENT
END:VCALENDAR