BEGIN:VCALENDAR
VERSION:2.0
PRODID:-//deltarhoupsilon.org - ECPv5.16.4//NONSGML v1.0//EN
CALSCALE:GREGORIAN
METHOD:PUBLISH
X-WR-CALNAME:deltarhoupsilon.org
X-ORIGINAL-URL:http://deltarhoupsilon.org
X-WR-CALDESC:Events for deltarhoupsilon.org
BEGIN:VTIMEZONE
TZID:America/Chicago
BEGIN:DAYLIGHT
TZOFFSETFROM:-0600
TZOFFSETTO:-0500
TZNAME:CDT
DTSTART:20160313T080000
END:DAYLIGHT
BEGIN:STANDARD
TZOFFSETFROM:-0500
TZOFFSETTO:-0600
TZNAME:CST
DTSTART:20161106T070000
END:STANDARD
END:VTIMEZONE
BEGIN:VEVENT
DTSTART;TZID=America/Chicago:20160507T110000
DTEND;TZID=America/Chicago:20160507T140000
DTSTAMP:20260421T131333
CREATED:20150818T033314Z
LAST-MODIFIED:20160504T000900Z
UID:708-1462618800-1462629600@deltarhoupsilon.org
SUMMARY:Delta Rho Upsilon - Alumni Active Senior Picnic
DESCRIPTION:Join us for the Active Alumni Senior Picnic.  All families are welcome to this event.
URL:http://deltarhoupsilon.org/event/delta-rho-upsilon-alumni-active-senior-picnic/
LOCATION:John Macy Residence\, 4829 Hewitts Point Road\, Oconomowoc\,\, WI\, 53066\, United States
END:VEVENT
END:VCALENDAR