BEGIN:VCALENDAR
VERSION:2.0
PRODID:-//deltarhoupsilon.org - ECPv5.16.4//NONSGML v1.0//EN
CALSCALE:GREGORIAN
METHOD:PUBLISH
X-WR-CALNAME:deltarhoupsilon.org
X-ORIGINAL-URL:http://deltarhoupsilon.org
X-WR-CALDESC:Events for deltarhoupsilon.org
BEGIN:VTIMEZONE
TZID:America/Chicago
BEGIN:DAYLIGHT
TZOFFSETFROM:-0600
TZOFFSETTO:-0500
TZNAME:CDT
DTSTART:20190310T080000
END:DAYLIGHT
BEGIN:STANDARD
TZOFFSETFROM:-0500
TZOFFSETTO:-0600
TZNAME:CST
DTSTART:20191103T070000
END:STANDARD
END:VTIMEZONE
BEGIN:VEVENT
DTSTART;TZID=America/Chicago:20191012T110000
DTEND;TZID=America/Chicago:20191012T140000
DTSTAMP:20260421T095054
CREATED:20190913T024314Z
LAST-MODIFIED:20190916T001907Z
UID:1350-1570878000-1570888800@deltarhoupsilon.org
SUMMARY:Carroll University – Homecoming Tailgate Party
DESCRIPTION:
URL:http://deltarhoupsilon.org/event/carroll-university-homecoming-tailgate-party-4/
LOCATION:Tennis Court Parking Lot
END:VEVENT
END:VCALENDAR